BEGIN:VCALENDAR
VERSION:2.0
PRODID:-//ChamberMaster//Event Calendar 2.0//EN
METHOD:PUBLISH
X-PUBLISHED-TTL:P3D
REFRESH-INTERVAL:P3D
CALSCALE:GREGORIAN
BEGIN:VEVENT
DTSTART:20110522T010000Z
DTEND:20110522T030000Z
X-MICROSOFT-CDO-ALLDAYEVENT:FALSE
SUMMARY:Garrett Pekar
DESCRIPTION:Come listen to some cool acoustic tunes at Bodega while enjoying an ice-cold caramel frappe or one of our new cinnamon scones!
X-ALT-DESC;FMTTYPE=text/html:Come listen to some cool acoustic tunes at Bodega while enjoying an ice-cold caramel frappe or one of our new cinnamon scones! 
LOCATION:
UID:e.300.5525
SEQUENCE:3
DTSTAMP:20260424T021403Z
URL:https://business.beltonchamber.com/events/details/garrett-pekar-05-21-2011-5525
END:VEVENT

END:VCALENDAR
