BEGIN:VCALENDAR
VERSION:2.0
PRODID:-//ChamberMaster//Event Calendar 2.0//EN
METHOD:PUBLISH
X-PUBLISHED-TTL:P3D
REFRESH-INTERVAL:P3D
CALSCALE:GREGORIAN
BEGIN:VEVENT
DTSTART:20110529T010000Z
DTEND:20110529T030000Z
X-MICROSOFT-CDO-ALLDAYEVENT:FALSE
SUMMARY:Gerhard Stuebben
DESCRIPTION:Come listen to a new musician at Bodega: Gerhard Stuebben! He is bringing a cool acoustic style with him!!
X-ALT-DESC;FMTTYPE=text/html:Come listen to a new musician at Bodega: Gerhard Stuebben! He is bringing a cool acoustic style with him!! 
LOCATION:Bodega Bean Coffee and Cafe 107 Water Street Downtown Belton\, TX
UID:e.300.5533
SEQUENCE:3
DTSTAMP:20260424T172139Z
URL:https://business.beltonchamber.com/events/details/gerhard-stuebben-05-28-2011-5533
END:VEVENT

END:VCALENDAR
