BEGIN:VCALENDAR
VERSION:2.0
PRODID:-//ChamberMaster//Event Calendar 2.0//EN
METHOD:PUBLISH
X-PUBLISHED-TTL:P3D
REFRESH-INTERVAL:P3D
CALSCALE:GREGORIAN
BEGIN:VEVENT
DTSTART;VALUE=DATE:20210605
DTEND;VALUE=DATE:20210606
TRANSP:TRANSPARENT
X-MICROSOFT-CDO-ALLDAYEVENT:TRUE
SUMMARY:Gift of Love Homeless Care Package
DESCRIPTION:City Mission Gift of Love Homeless Ministry is designed to be an explicit testimony of the love of Jesus Christ. Galatians 6:10 says\, "As we have opportunity\, let us do good to all people\, especially to those who belong to the family of believers". City Mission strives to model this Christ-like behavior by helping provide the basic necessities of life for those in need.\n\nIf you would like to partner with us you may drop off items for the care packages to 907 Evergreen Farm Dr. Temple\, TX (care packages include tooth paste\, tooth brush\, soap\, wipes\, socks\, nutritional bars\, deodordant\, tissue\, and other items) or you can donate any amount of financial support online at www.citymissionbelton.com. Your gift of any size will help to provide a much needed necessity to a homeless person in need.
X-ALT-DESC;FMTTYPE=text/html:<p>City Mission Gift of Love Homeless Ministry is designed to be an explicit testimony of the love of Jesus Christ. Galatians 6:10 says\, &ldquo\;As we have opportunity\, let us do good to all people\, especially to those who belong to the family of believers&rdquo\;. City Mission strives to model this Christ-like behavior by helping provide the basic necessities of life for those in need.<br />\nIf you would like to partner with us you may drop off items for the care packages to 907 Evergreen Farm Dr. Temple\, TX (care packages include tooth paste\, tooth brush\, soap\, wipes\, socks\, nutritional bars\, deodordant\, tissue\, and other items) or you can donate any amount of financial support online at <a href="http://www.citymissionbelton.com/" rel="nofollow" target="_blank">www.citymissionbelton.com.</a> Your gift of any size will help to provide a much needed necessity to a homeless person in need.</p>\n
LOCATION:401 So. Davis St. Belton\, TX 76502
UID:e.300.8474
SEQUENCE:3
DTSTAMP:20260421T103940Z
URL:https://business.beltonchamber.com/events/details/gift-of-love-homeless-care-package-06-05-2021-8474
END:VEVENT

END:VCALENDAR
