BEGIN:VCALENDAR
VERSION:2.0
PRODID:-//ChamberMaster//Event Calendar 2.0//EN
METHOD:PUBLISH
X-PUBLISHED-TTL:P3D
REFRESH-INTERVAL:P3D
CALSCALE:GREGORIAN
BEGIN:VEVENT
DTSTART:20210704T200000Z
DTEND:20210704T210000Z
X-MICROSOFT-CDO-ALLDAYEVENT:FALSE
SUMMARY:God & Country Concert
DESCRIPTION:50th Anniversary of God & Country Concert
X-ALT-DESC;FMTTYPE=text/html:50th Anniversary of God &amp\; Country Concert
LOCATION:First Baptist Church Belton 506 N. Main Street Belton\, TX
UID:e.300.16039
SEQUENCE:3
DTSTAMP:20260421T222537Z
URL:https://business.beltonchamber.com/events/details/god-country-concert-16039
END:VEVENT

END:VCALENDAR
