BEGIN:VCALENDAR
VERSION:2.0
PRODID:-//ChamberMaster//Event Calendar 2.0//EN
METHOD:PUBLISH
X-PUBLISHED-TTL:P3D
REFRESH-INTERVAL:P3D
CALSCALE:GREGORIAN
BEGIN:VEVENT
DTSTART:20200811T123000Z
DTEND:20200811T133000Z
X-MICROSOFT-CDO-ALLDAYEVENT:FALSE
SUMMARY:Good Morning Bell County
DESCRIPTION:Get a great start to your morning with Mark Vitner\, Senior Economist at Wells Fargo Corporate & Investment Banking via Zoom.
X-ALT-DESC;FMTTYPE=text/html:Get a great start to your morning with Mark Vitner\, Senior Economist at Wells Fargo Corporate &amp\; Investment Banking via Zoom.
LOCATION:Where: Your computer or phone ID: 886 8047 9973 Password: 743389
UID:e.300.15389
SEQUENCE:3
DTSTAMP:20260422T021320Z
URL:https://business.beltonchamber.com/events/details/good-morning-bell-county-15389
END:VEVENT

END:VCALENDAR
