BEGIN:VCALENDAR
VERSION:2.0
PRODID:-//ChamberMaster//Event Calendar 2.0//EN
METHOD:PUBLISH
X-PUBLISHED-TTL:P3D
REFRESH-INTERVAL:P3D
CALSCALE:GREGORIAN
BEGIN:VEVENT
DTSTART:20200710T223000Z
DTEND:20200710T230000Z
X-MICROSOFT-CDO-ALLDAYEVENT:FALSE
SUMMARY:Grand Opening/Ribbon Cutting
DESCRIPTION:Please join us for the grand opening and ribbon cutting at C & D Medical Aesthetics\, PPLC
X-ALT-DESC;FMTTYPE=text/html:Please join us for the grand opening and ribbon cutting at C &amp\; D Medical Aesthetics\, PPLC
LOCATION:204 N Penelope street Ste F4 Belton\, TX
UID:e.300.15387
SEQUENCE:3
DTSTAMP:20260422T035553Z
URL:https://business.beltonchamber.com/events/details/grand-opening-ribbon-cutting-15387
END:VEVENT

END:VCALENDAR
