BEGIN:VCALENDAR
VERSION:2.0
PRODID:-//ChamberMaster//Event Calendar 2.0//EN
METHOD:PUBLISH
X-PUBLISHED-TTL:P3D
REFRESH-INTERVAL:P3D
CALSCALE:GREGORIAN
BEGIN:VEVENT
DTSTART;VALUE=DATE:20110505
DTEND;VALUE=DATE:20110507
TRANSP:TRANSPARENT
X-MICROSOFT-CDO-ALLDAYEVENT:TRUE
SUMMARY:"Grease"
DESCRIPTION:Full of young love and high school drama\, "Grease" is the original high school musical. The Beltonian Theater is showing "Grease" all weekend (Thursday-Saturday)\, May 5\, 6\, and 7\, at 7:00 p.m. Doors open at 6:00 p.m. Admission is $6.
X-ALT-DESC;FMTTYPE=text/html:Full of young love and high school drama\, &quot\;Grease&quot\; is the original high school musical. The Beltonian Theater is showing &quot\;Grease&quot\; all weekend (Thursday-Saturday)\, May 5\, 6\, and 7\, at 7:00 p.m. Doors open at 6:00 p.m. Admission is $6.
LOCATION:The Beltonian Theater
UID:e.300.5352
SEQUENCE:3
DTSTAMP:20260424T211406Z
URL:https://business.beltonchamber.com/events/details/grease-05-05-2011-5352
END:VEVENT

END:VCALENDAR
