BEGIN:VCALENDAR
VERSION:2.0
PRODID:-//ChamberMaster//Event Calendar 2.0//EN
METHOD:PUBLISH
X-PUBLISHED-TTL:P3D
REFRESH-INTERVAL:P3D
CALSCALE:GREGORIAN
BEGIN:VEVENT
DTSTART:20250329T210000Z
DTEND:20250329T230000Z
X-MICROSOFT-CDO-ALLDAYEVENT:FALSE
SUMMARY:Greek Wine and Food Pairing
DESCRIPTION:Come celebrate Greek Independence Day with us! Our casual\, cocktail hour Meet & Greek will feature 1/2 glasses of 4 different wines\, including Assyrtiko white\, Xinomavro red\, Moschofilero Rose and Vranec red\, plus apps\, bites & small plates from Acropolis Restaurant! $40 per person or $70 per couple\, please call us to RSVP and Pre-Pay 254-913-6856. Or reserve in Tasting Room!
X-ALT-DESC;FMTTYPE=text/html:<span style="font-size:20px\;"><span style="color: rgb(8\, 8\, 9)\; font-family: &quot\;Segoe UI Historic&quot\;\, &quot\;Segoe UI&quot\;\, Helvetica\, Arial\, sans-serif\;">Come celebrate Greek Independence Day with us! Our casual\, cocktail hour Meet &amp\; Greek will feature 1/2 glasses of 4 different wines\, including Assyrtiko white\, Xinomavro red\, Moschofilero Rose and Vranec red\, plus apps\, bites &amp\; small plates from Acropolis Restaurant! $40 per person or $70 per couple\, please call us to RSVP and Pre-Pay 254-913-6856. Or reserve in Tasting Room!</span></span>
LOCATION:204 East Loop 121 Belton\, TX 76513
UID:e.300.18199
SEQUENCE:3
DTSTAMP:20260421T211638Z
URL:https://business.beltonchamber.com/events/details/greek-wine-and-food-pairing-18199
END:VEVENT

END:VCALENDAR
