BEGIN:VCALENDAR
VERSION:2.0
PRODID:-//ChamberMaster//Event Calendar 2.0//EN
METHOD:PUBLISH
X-PUBLISHED-TTL:P3D
REFRESH-INTERVAL:P3D
CALSCALE:GREGORIAN
BEGIN:VEVENT
DTSTART:20200311T160000Z
DTEND:20200311T170000Z
X-MICROSOFT-CDO-ALLDAYEVENT:FALSE
SUMMARY:Grow With Google
DESCRIPTION:Make sure your business shows up online - for free. Help the people in your community find your business on Google Search and Maps. Join us for a free workshop to get started. Register Now!
X-ALT-DESC;FMTTYPE=text/html:Make sure your business shows up online - for free. Help the people in your community find your business on Google Search and Maps. Join us for a free workshop to get started.<a href="https://community.grow.google/s/event/a0r1E00000CH7Vb"> Register Now!</a>
LOCATION:Belton Area Chamber of Commerce 412 E. Central Ave.\, Belton
UID:e.300.15369
SEQUENCE:3
DTSTAMP:20260422T085736Z
URL:https://business.beltonchamber.com/events/details/grow-with-google-15369
END:VEVENT

END:VCALENDAR
