BEGIN:VCALENDAR
VERSION:2.0
PRODID:-//ChamberMaster//Event Calendar 2.0//EN
METHOD:PUBLISH
X-PUBLISHED-TTL:P3D
REFRESH-INTERVAL:P3D
CALSCALE:GREGORIAN
BEGIN:VEVENT
DTSTART:20200924T230000Z
DTEND:20200925T000000Z
X-MICROSOFT-CDO-ALLDAYEVENT:FALSE
SUMMARY:"Guide to Investing in an Election Year"
DESCRIPTION:"Guide to Investing in an Election Year" - Zoom Meeting\n\n\n\nCo-Hosted by:\n\nEdward Jones Financial Advisor Scot Hrbacek CFP and David Jordt\, Regional Vice President of American Funds.
X-ALT-DESC;FMTTYPE=text/html:&quot\;Guide to Investing in an Election Year&quot\; - Zoom Meeting<br />\n<br />\nCo-Hosted by:<br />\nEdward Jones Financial Advisor Scot Hrbacek CFP and David Jordt\, Regional Vice President of American Funds.
LOCATION:To join the meeting: Please log into Zoom via your phone or computer Meeting ID# 96926689066 Password: 696477 If you are not near a computer\, you may call 1-346-248-7799 and use the above information.
UID:e.300.15415
SEQUENCE:3
DTSTAMP:20260422T010615Z
URL:https://business.beltonchamber.com/events/details/guide-to-investing-in-an-election-year-15415
END:VEVENT

END:VCALENDAR
