BEGIN:VCALENDAR
VERSION:2.0
PRODID:-//ChamberMaster//Event Calendar 2.0//EN
METHOD:PUBLISH
X-PUBLISHED-TTL:P3D
REFRESH-INTERVAL:P3D
CALSCALE:GREGORIAN
BEGIN:VEVENT
DTSTART:20110507T190000Z
DTEND:20110507T210000Z
X-MICROSOFT-CDO-ALLDAYEVENT:FALSE
SUMMARY:High Tea
DESCRIPTION:$50 per person.\n\nBenefiting the Scott and White Children's Hospital.  Come enjoy a High Tea event at Bodega's Bean Room.  Must pre-purchase tickets from Bodega Bean or the Scott and White Healthcare Foundation Office.\n\n**Hats and gloves optional. \n\nThere will be tea\, dessserts\, and small bite size sandwiches unlimited!
X-ALT-DESC;FMTTYPE=text/html:$50 per person.<br />\nBenefiting the Scott and White Children&#39\;s Hospital.&nbsp\; Come enjoy a High Tea event at Bodega&#39\;s Bean Room.&nbsp\; Must pre-purchase tickets from Bodega Bean or the Scott and White Healthcare Foundation Office.<br />\n**Hats and gloves optional.&nbsp\;<br />\nThere will be tea\, dessserts\, and small bite size sandwiches unlimited!
LOCATION:107 Water Street Downtown Belton\, TX
UID:e.300.5365
SEQUENCE:3
DTSTAMP:20260424T155204Z
URL:https://business.beltonchamber.com/events/details/high-tea-05-07-2011-5365
END:VEVENT

END:VCALENDAR
