BEGIN:VCALENDAR
VERSION:2.0
PRODID:-//ChamberMaster//Event Calendar 2.0//EN
METHOD:PUBLISH
X-PUBLISHED-TTL:P3D
REFRESH-INTERVAL:P3D
CALSCALE:GREGORIAN
BEGIN:VEVENT
DTSTART:20200909T133000Z
DTEND:20200909T140000Z
X-MICROSOFT-CDO-ALLDAYEVENT:FALSE
SUMMARY:How to Improve Your Bottom Line This Holiday Season (In the Covid-19 Era) Webinar
DESCRIPTION:The Belton Area Chamber of Commerce & KXXV-News 25 invite you to an informative webinar:\n\n \n\nHow To Improve Your Bottom Line This Holiday Season (In The Covid-19 Era)\n\n	Free tips on improving your web site\n	Increase your organic score - showing up on the first page of a search\n	Easy Facebook improvements\, you can do\n	Five inexpensive methods of reaching thousands of potential customers before Christmas and beyond
X-ALT-DESC;FMTTYPE=text/html:<span style="font-size:14.0pt\;">The Belton Area Chamber of Commerce &amp\; KXXV-News 25 invite you to an informative webinar:</span><br />\n&nbsp\;<br />\n<strong><span style="font-size:24.0pt\;">How To Improve Your Bottom Line This Holiday Season (In The Covid-19 Era)</span></strong>\n<ul>\n	<li><span style="font-size:16.0pt\;">Free tips on improving your web site</span></li>\n	<li><span style="font-size:16.0pt\;">Increase your organic score - <em>showing up on the first page of a search</em></span></li>\n	<li><span style="font-size:16.0pt\;">Easy Facebook improvements\, you can do</span></li>\n	<li><span style="font-size:16.0pt\;">Five inexpensive methods of reaching thousands of potential customers before Christmas&hellip\;and beyond</span></li>\n</ul>\n&nbsp\;<br />\n<br />\n&nbsp\;<br />\n&nbsp\;
LOCATION:
UID:e.300.15408
SEQUENCE:3
DTSTAMP:20260422T113349Z
URL:https://business.beltonchamber.com/events/details/how-to-improve-your-bottom-line-this-holiday-season-in-the-covid-19-era-webinar-15408
END:VEVENT

END:VCALENDAR
