BEGIN:VCALENDAR
VERSION:2.0
PRODID:-//ChamberMaster//Event Calendar 2.0//EN
METHOD:PUBLISH
X-PUBLISHED-TTL:P3D
REFRESH-INTERVAL:P3D
CALSCALE:GREGORIAN
BEGIN:VEVENT
DTSTART:20220713T163000Z
DTEND:20220713T180000Z
X-MICROSOFT-CDO-ALLDAYEVENT:FALSE
SUMMARY:HR Learning - Addressing the Talent Shortage: Attract Veterans to Your Workplace
DESCRIPTION:PRESENTATION SUMMARY\n\n \n\nThe current unemployment rate is returning to pre-pandemic levels\, but many jobs continue to be left vacant. Veterans have the skills needed to help address talent shortages\, but 55 percent of veterans report employment as a top transition challenge.\n\nLearning Objectives:\n\n\n	Benefits of Hiring veterans\n	How Military experience translates directly to leadership and work ethic in civilian roles\n	How to tap into corporate tax benefits\n	Addressing common challenges when hiring veterans\n	Resources and organizations that can assist locating job seeking veterans
X-ALT-DESC;FMTTYPE=text/html:<p><strong>PRESENTATION SUMMARY</strong></p>\n\n<p>&nbsp\;</p>\n\n<p>The current unemployment rate is returning to pre-pandemic levels\, but many jobs continue to be left vacant. Veterans have the skills needed to help address talent shortages\, but 55 percent of veterans report employment as a top transition challenge.</p>\n\n<p>Learning Objectives:</p>\n\n<ul>\n	<li>Benefits of Hiring veterans</li>\n	<li>How Military experience translates directly to leadership and work ethic in civilian roles</li>\n	<li>How to tap into corporate tax benefits</li>\n	<li>Addressing common challenges when hiring veterans</li>\n	<li>Resources and organizations that can assist locating job seeking veterans</li>\n</ul>\n
LOCATION:The Gin - Belton (219 East St Belton\, TX)
UID:e.300.16287
SEQUENCE:3
DTSTAMP:20260423T183609Z
URL:https://business.beltonchamber.com/events/details/hr-learning-addressing-the-talent-shortage-attract-veterans-to-your-workplace-16287
END:VEVENT

END:VCALENDAR
