BEGIN:VCALENDAR
VERSION:2.0
PRODID:-//ChamberMaster//Event Calendar 2.0//EN
METHOD:PUBLISH
X-PUBLISHED-TTL:P3D
REFRESH-INTERVAL:P3D
CALSCALE:GREGORIAN
BEGIN:VEVENT
DTSTART:20220608T163000Z
DTEND:20220608T180000Z
X-MICROSOFT-CDO-ALLDAYEVENT:FALSE
SUMMARY:HR Learning - Top 10 Wage and Hour Mistakes to Avoid
DESCRIPTION:PRESENTATION SUMMARY\n\nIn the aftermath of the pandemic\, the workplace has changed\, bringing new (and old) challenges for employers to correctly capture and pay employees in compliance with the law. This fast-paced seminar will provide an overview of the top ten areas of potential wage and hour risk for employers\, including issues affecting both exempt and non-exempt employees.\n\nAttendees in this session will:\n\n\n	Identify policies related to the pandemic that create potential wage and hour liability\, including working from home\, COVID-19 testing\, and health screening practices\n	Understand the duties tests for exempt employees and identify common mistakes made by employers in designating exempt employees\n	Identify trends for "off-the-clock" work litigation and learn how to develop practical policies to minimize the risk of such suits
X-ALT-DESC;FMTTYPE=text/html:<p><strong>PRESENTATION SUMMARY</strong></p>\n\n<p>In the aftermath of the pandemic\, the workplace has changed\, bringing new (and old) challenges for employers to correctly capture and pay employees in compliance with the law. This fast-paced seminar will provide an overview of the top ten areas of potential wage and hour risk for employers\, including issues affecting both exempt and non-exempt employees.</p>\n\n<p>Attendees in this session will:</p>\n\n<ul>\n	<li>Identify policies related to the pandemic that create potential wage and hour liability\, including working from home\, COVID-19 testing\, and health screening practices</li>\n	<li>Understand the duties tests for exempt employees and identify common mistakes made by employers in designating exempt employees</li>\n	<li>Identify trends for &ldquo\;off-the-clock&rdquo\; work litigation and learn how to develop practical policies to minimize the risk of such suits</li>\n</ul>\n
LOCATION:The Gin - Belton (219 East St Belton\, TX)
UID:e.300.16286
SEQUENCE:3
DTSTAMP:20260423T194615Z
URL:https://business.beltonchamber.com/events/details/hr-learning-top-10-wage-and-hour-mistakes-to-avoid-16286
END:VEVENT

END:VCALENDAR
