BEGIN:VCALENDAR
VERSION:2.0
PRODID:-//ChamberMaster//Event Calendar 2.0//EN
METHOD:PUBLISH
X-PUBLISHED-TTL:P3D
REFRESH-INTERVAL:P3D
CALSCALE:GREGORIAN
BEGIN:VEVENT
DTSTART:20200421T133000Z
DTEND:20200421T173000Z
X-MICROSOFT-CDO-ALLDAYEVENT:FALSE
SUMMARY:MS PowerPoint 2016 - Introduction
DESCRIPTION:Take control of your presentations! Through this hands-on workshop\, you will learn how to:\n\n	Create slide presentations using a variety of slide and layout masters\n	Embellish your slides with pictures\, shapes\, and SmartArt\n	Explore the options on the PowerPoint Ribbon and the File Menu Options
X-ALT-DESC;FMTTYPE=text/html:<span style="background-color:rgb(255\, 255\, 255)\; color:rgb(51\, 51\, 51)\; font-family:sans-serif\,arial\,verdana\,trebuchet ms\; font-size:13px">Take control of your presentations! Through this hands-on workshop\, you will learn how to:</span>\n<ul>\n	<li>Create slide presentations using a variety of slide and layout masters</li>\n	<li>Embellish your slides with pictures\, shapes\, and SmartArt</li>\n	<li>Explore the options on the PowerPoint Ribbon and the File Menu Options</li>\n</ul>\n
LOCATION:Berry Hall\, Room 210 Temple College 2600 S. First St. Temple\, TX 76504
UID:e.300.12680
SEQUENCE:3
DTSTAMP:20260421T082549Z
URL:https://business.beltonchamber.com/events/details/introduction-to-ms-powerpoint-2016-07-24-2018-12680
END:VEVENT

END:VCALENDAR
