BEGIN:VCALENDAR
VERSION:2.0
PRODID:-//ChamberMaster//Event Calendar 2.0//EN
METHOD:PUBLISH
X-PUBLISHED-TTL:P3D
REFRESH-INTERVAL:P3D
CALSCALE:GREGORIAN
BEGIN:VEVENT
DTSTART:20110514T010000Z
DTEND:20110514T030000Z
X-MICROSOFT-CDO-ALLDAYEVENT:FALSE
SUMMARY:Joe Stento
DESCRIPTION:New and used acoustic classic rock!
X-ALT-DESC;FMTTYPE=text/html:New and used acoustic classic rock!
LOCATION:
UID:e.300.5521
SEQUENCE:3
DTSTAMP:20260424T155211Z
URL:https://business.beltonchamber.com/events/details/joe-stento-05-13-2011-5521
END:VEVENT

END:VCALENDAR
