BEGIN:VCALENDAR
VERSION:2.0
PRODID:-//ChamberMaster//Event Calendar 2.0//EN
METHOD:PUBLISH
X-PUBLISHED-TTL:P3D
REFRESH-INTERVAL:P3D
CALSCALE:GREGORIAN
BEGIN:VEVENT
DTSTART:20110528T010000Z
DTEND:20110528T030000Z
X-MICROSOFT-CDO-ALLDAYEVENT:FALSE
SUMMARY:Joe Stento
DESCRIPTION:New and used acoustic classic rock!  Come check it out!
X-ALT-DESC;FMTTYPE=text/html:New and used acoustic classic rock!&nbsp\; Come check it out!
LOCATION:Bodega Bean Coffee and Cafe 107 Water Street Downtown Belton\, TX
UID:e.300.5532
SEQUENCE:3
DTSTAMP:20260424T160010Z
URL:https://business.beltonchamber.com/events/details/joe-stento-05-27-2011-5532
END:VEVENT

END:VCALENDAR
