BEGIN:VCALENDAR
VERSION:2.0
PRODID:-//ChamberMaster//Event Calendar 2.0//EN
METHOD:PUBLISH
X-PUBLISHED-TTL:P3D
REFRESH-INTERVAL:P3D
CALSCALE:GREGORIAN
BEGIN:VEVENT
DTSTART:20241116T150000Z
DTEND:20241116T223000Z
X-MICROSOFT-CDO-ALLDAYEVENT:FALSE
SUMMARY:Just Between Friends - Bell County
DESCRIPTION:Everyone is welcome at our event!  Just Between Friends Bell County is committed to continue our tradition to affordably help Bell County families clothe and entertain their kids.\nSaturday\, Nov. 16\n\n9am - 4:30pm\n\nThis sale features all season clothing and shoes plus everything related to kids and pregnancy.\n\nGrab a friend or family member and stock up on everything for the next 6 months!
X-ALT-DESC;FMTTYPE=text/html:<span style="font-size:18px\;"><span style="font-family:verdana\;">Everyone is welcome at our event!&nbsp\;&nbsp\;Just Between Friends Bell County is committed to continue our tradition to affordably help Bell County families clothe and entertain their kids.</span></span>\n<p style="margin-bottom: 0px\; color: rgb(40\, 40\, 40)\; font-family: NotoSans-Regular\, Arial\, Verdana\, sans-serif\; font-size: 16px\;"><span style="font-size:18px\;"><span style="font-family:verdana\;"><strong style="font-family: NotoSans-Bold\;">Saturday\, Nov. 16</strong></span></span></p>\n\n<p style="margin-bottom: 0px\; color: rgb(40\, 40\, 40)\; font-family: NotoSans-Regular\, Arial\, Verdana\, sans-serif\; font-size: 16px\;"><span style="font-size:18px\;"><span style="font-family:verdana\;">9am - 4:30pm</span></span></p>\n\n<p style="margin-bottom: 0px\; color: rgb(40\, 40\, 40)\; font-family: NotoSans-Regular\, Arial\, Verdana\, sans-serif\; font-size: 16px\;"><span style="font-size:18px\;"><span style="font-family:verdana\;">This sale features all season clothing and shoes plus everything related to kids and pregnancy.</span></span></p>\n\n<p style="margin-bottom: 0px\; color: rgb(40\, 40\, 40)\; font-family: NotoSans-Regular\, Arial\, Verdana\, sans-serif\; font-size: 16px\;"><span style="font-size:18px\;"><span style="font-family:verdana\;">Grab a friend or family member and stock up on everything for the next 6 months!</span></span></p>\n
LOCATION:Cadence Bank Center Assemble Hall 301 W. Loop 121 Belton
UID:e.300.18038
SEQUENCE:3
DTSTAMP:20260425T143142Z
URL:https://business.beltonchamber.com/events/details/just-between-friends-bell-county-18038
END:VEVENT

END:VCALENDAR
