BEGIN:VCALENDAR
VERSION:2.0
PRODID:-//ChamberMaster//Event Calendar 2.0//EN
METHOD:PUBLISH
X-PUBLISHED-TTL:P3D
REFRESH-INTERVAL:P3D
CALSCALE:GREGORIAN
BEGIN:VEVENT
DTSTART:20110630T163000Z
DTEND:20110630T180000Z
X-MICROSOFT-CDO-ALLDAYEVENT:FALSE
SUMMARY:Kick-Off BBQ
DESCRIPTION:4th of July Kick Off BBQ
X-ALT-DESC;FMTTYPE=text/html:4th of July Kick Off BBQ
LOCATION:Yetti Polk Park Belton\, Texas
UID:e.300.5556
SEQUENCE:3
DTSTAMP:20260422T055308Z
URL:https://business.beltonchamber.com/events/details/kick-off-bbq-06-30-2011-5556
END:VEVENT

END:VCALENDAR
