BEGIN:VCALENDAR
VERSION:2.0
PRODID:-//ChamberMaster//Event Calendar 2.0//EN
METHOD:PUBLISH
X-PUBLISHED-TTL:P3D
REFRESH-INTERVAL:P3D
CALSCALE:GREGORIAN
BEGIN:VEVENT
DTSTART:20110507T150000Z
DTEND:20110507T160000Z
X-MICROSOFT-CDO-ALLDAYEVENT:FALSE
SUMMARY:Larkin O'Hern Dedication
DESCRIPTION:The City of Belton and The Gin will be dedicating the new Pavilion on Nolan Creek in honor of Lt. Larkin O'Hern\, a 2004 Belton HS Honor Graduate and West Point Graduate who was seriously injured in Afghanistan\, losing both legs and his right hand. Join us in this historical dedication!\n\nLearn more about Lt. O'Hern: http://www.caringbridge.org/visit/larkinohern\n\nBenefit Concert for Lt. O'Hern in the evening  at 7 pm. featuring Dave Halston and his 7-piece Swing Band:  $65/ticket and $500/table of 8   more info: www.theginevents.com or visit Woodhouse Day Spa at Nolan Creek
X-ALT-DESC;FMTTYPE=text/html:The City of Belton and The Gin will be dedicating the new Pavilion on Nolan Creek in honor of Lt. Larkin O&#39\;Hern\, a 2004 Belton HS Honor Graduate and West Point Graduate who was seriously injured in Afghanistan\, losing both legs and his right hand. Join us in this historical dedication!<br />\nLearn more about Lt. O&#39\;Hern: <a href="http://www.caringbridge.org/visit/larkinohern">http://www.caringbridge.org/visit/larkinohern</a><br />\nBenefit Concert for Lt. O&#39\;Hern in the evening&nbsp\; at 7 pm. featuring Dave Halston and his 7-piece Swing Band:&nbsp\; $65/ticket and $500/table of 8&nbsp\;&nbsp\; more info: <a href="http://www.theginevents.com">www.theginevents.com</a> or visit Woodhouse Day Spa at Nolan Creek<br />\n
LOCATION:Pavilion at The Gin on Nolan Creek 219 S East Street Belton\, TX 76513
UID:e.300.5347
SEQUENCE:3
DTSTAMP:20260424T160112Z
URL:https://business.beltonchamber.com/events/details/larkin-o-hern-dedication-05-07-2011-5347
END:VEVENT

END:VCALENDAR
