BEGIN:VCALENDAR
VERSION:2.0
PRODID:-//ChamberMaster//Event Calendar 2.0//EN
METHOD:PUBLISH
X-PUBLISHED-TTL:P3D
REFRESH-INTERVAL:P3D
CALSCALE:GREGORIAN
BEGIN:VEVENT
DTSTART:20250329T150000Z
DTEND:20250330T000000Z
X-MICROSOFT-CDO-ALLDAYEVENT:FALSE
SUMMARY:Legends on the Chisolm Trail
DESCRIPTION:Sat. Mar 29 - 10 am to 7 pm\n\n\n	Native American Flute Performance & Live Music: 10 am - 2 pm\n	Vendors with Western and Native American Products: 10 am - 7 pm\n	Chuck Wagon Lunch: 11 am - 1:30 pm (Or until food runs out)\n	Texas Old Time Fiddlers Contest: 3 pm - 7 pm\n	Teepees
X-ALT-DESC;FMTTYPE=text/html:<p style="box-sizing: border-box\; margin-top: 0px\; margin-bottom: 1.5rem\; color: rgb(34\, 38\, 42)\; font-family: Montserrat\, Arial\, Verdana\, sans-serif\; font-size: 16px\;"><span style="font-size:20px\;">Sat. Mar 29 - 10 am to 7 pm</span></p>\n\n<ul style="box-sizing: border-box\; padding-left: 2rem\; margin-top: 0px\; margin-bottom: 1rem\; line-height: 1.5\; color: rgb(34\, 38\, 42)\; font-family: Montserrat\, Arial\, Verdana\, sans-serif\; font-size: 16px\;">\n	<li style="box-sizing: border-box\; line-height: 1.8em\;"><span style="font-size:20px\;">Native American Flute Performance &amp\; Live Music: 10 am - 2 pm</span></li>\n	<li style="box-sizing: border-box\; line-height: 1.8em\;"><span style="font-size:20px\;">Vendors with Western and Native American Products: 10 am - 7 pm</span></li>\n	<li style="box-sizing: border-box\; line-height: 1.8em\;"><span style="font-size:20px\;">Chuck Wagon Lunch: 11 am - 1:30 pm (Or until food runs out)</span></li>\n	<li style="box-sizing: border-box\; line-height: 1.8em\;"><span style="font-size:20px\;">Texas Old Time Fiddlers Contest: 3 pm - 7 pm</span></li>\n	<li style="box-sizing: border-box\; line-height: 1.8em\;"><span style="font-size:20px\;">Teepees</span></li>\n</ul>\n
LOCATION:219 S East St. Belton\, TX 76513
UID:e.300.18196
SEQUENCE:3
DTSTAMP:20260421T211407Z
URL:https://business.beltonchamber.com/events/details/legends-on-the-chisolm-trail-18196
END:VEVENT

END:VCALENDAR
