BEGIN:VCALENDAR
VERSION:2.0
PRODID:-//ChamberMaster//Event Calendar 2.0//EN
METHOD:PUBLISH
X-PUBLISHED-TTL:P3D
REFRESH-INTERVAL:P3D
CALSCALE:GREGORIAN
BEGIN:VEVENT
DTSTART:20250330T120000Z
DTEND:20250330T150000Z
X-MICROSOFT-CDO-ALLDAYEVENT:FALSE
SUMMARY:Legends on the Chisolm Trail
DESCRIPTION:Sun Mar 30 - 7 am to 10 am\n\n\n	Cowboy Breakfast: 7 am - 9 am (Or until food runs out)\n	Cowboy Church: 9 am - 10 am
X-ALT-DESC;FMTTYPE=text/html:<p style="box-sizing: border-box\; margin-top: 0px\; margin-bottom: 1.5rem\; color: rgb(34\, 38\, 42)\; font-family: Montserrat\, Arial\, Verdana\, sans-serif\; font-size: 16px\;">&nbsp\;</p>\n\n<p style="box-sizing: border-box\; margin-top: 0px\; margin-bottom: 1.5rem\; color: rgb(34\, 38\, 42)\; font-family: Montserrat\, Arial\, Verdana\, sans-serif\; font-size: 16px\;"><span style="font-size:20px\;">Sun Mar 30 - 7 am to 10 am</span></p>\n\n<ul style="box-sizing: border-box\; padding-left: 2rem\; margin-top: 0px\; margin-bottom: 1rem\; line-height: 1.5\; color: rgb(34\, 38\, 42)\; font-family: Montserrat\, Arial\, Verdana\, sans-serif\; font-size: 16px\;">\n	<li style="box-sizing: border-box\; line-height: 1.8em\;"><span style="font-size:20px\;">Cowboy Breakfast: 7 am - 9 am (Or until food runs out)</span></li>\n	<li style="box-sizing: border-box\; line-height: 1.8em\;"><span style="font-size:20px\;">Cowboy Church: 9 am - 10 am</span></li>\n</ul>\n
LOCATION:219 S East St. Belton\, TX 76513
UID:e.300.18197
SEQUENCE:3
DTSTAMP:20260421T213807Z
URL:https://business.beltonchamber.com/events/details/legends-on-the-chisolm-trail-18197
END:VEVENT

END:VCALENDAR
