BEGIN:VCALENDAR
VERSION:2.0
PRODID:-//ChamberMaster//Event Calendar 2.0//EN
METHOD:PUBLISH
X-PUBLISHED-TTL:P3D
REFRESH-INTERVAL:P3D
CALSCALE:GREGORIAN
BEGIN:VEVENT
DTSTART:20200210T130000Z
DTEND:20200211T023000Z
X-MICROSOFT-CDO-ALLDAYEVENT:FALSE
SUMMARY:Legislative Update with State Rep Hugh Shine
DESCRIPTION:Legislative Update with our State Representative\, Hugh Shine happens the second Monday every month here at the Belton Area Chamber of Commerce. This is your chance to sit down in a relaxed environment and ask the questions and get legislative updates face to face. No need to register\, just come on in and have some coffee.
X-ALT-DESC;FMTTYPE=text/html:<span style="color: rgb(29\, 33\, 41)\; font-family: Helvetica\, Arial\, sans-serif\; font-size: 14px\; white-space: pre-wrap\;">Legislative Update with our State Representative\, Hugh Shine happens the second Monday every month here at the Belton Area Chamber of Commerce. This is your chance to sit down in a relaxed environment and ask the questions and get legislative updates face to face. No need to register\, just come on in and have some coffee.</span>
LOCATION:Belton Area Chamber of Commerce 412 E Central Ave.\, Belton
UID:e.300.15291
SEQUENCE:3
DTSTAMP:20260422T101342Z
URL:https://business.beltonchamber.com/events/details/legislative-update-with-state-rep-hugh-shine-15291
END:VEVENT

END:VCALENDAR
