BEGIN:VCALENDAR
VERSION:2.0
PRODID:-//ChamberMaster//Event Calendar 2.0//EN
METHOD:PUBLISH
X-PUBLISHED-TTL:P3D
REFRESH-INTERVAL:P3D
CALSCALE:GREGORIAN
BEGIN:VEVENT
DTSTART:20240323T000000Z
DTEND:20240323T030000Z
X-MICROSOFT-CDO-ALLDAYEVENT:FALSE
SUMMARY:Live Comedy Show at The Beltonian Theatre
DESCRIPTION:Live Comedy Show\n\nMarch 22nd at 7p\n\n$20 + tax in Advance/$25 + tax at the Door\n\nStoney Baloney Productions brings you a live comedy show starring the top comedic talent in Central Texas! No matter your sense of humor\, this stacked lineup has something for every comedy fan. Join us for a night of laughter\, drinks\, and fun for the whole (adult) family.\n\n\n\nLineup Bio\n\nYou've seen our comics performing on Kill Tony\, featuring at clubs in Austin\, Houston\, DFW\, San Antonio\, El Paso and everywhere in between. They've come from all over the country to hone their talents in Texas: the new national hot spot for comedy. Featuring headliners Gabriel Kerr & Scott Wharton.\n\nTickets are on sale NOW so reserve your seat before they sell out at:\n\nhttps://www.eventbrite.com/.../live-comedy-show-at-the...
X-ALT-DESC;FMTTYPE=text/html:<div class="xdj266r x11i5rnm xat24cr x1mh8g0r x1vvkbs" style="margin: 0px\; overflow-wrap: break-word\; font-family: &quot\;Segoe UI Historic&quot\;\, &quot\;Segoe UI&quot\;\, Helvetica\, Arial\, sans-serif\; color: rgb(5\, 5\, 5)\; font-size: 15px\;"><strong>Live Comedy Show</strong><br />\nMarch 22nd at 7p<br />\n$20 + tax in Advance/$25 + tax at the Door</div>\n\n<div class="x11i5rnm xat24cr x1mh8g0r x1vvkbs xtlvy1s" style="margin: 0.5em 0px 0px\; overflow-wrap: break-word\; font-family: &quot\;Segoe UI Historic&quot\;\, &quot\;Segoe UI&quot\;\, Helvetica\, Arial\, sans-serif\; color: rgb(5\, 5\, 5)\; font-size: 15px\;">Stoney Baloney Productions brings you a live comedy show starring the top comedic talent in Central Texas! No matter your sense of humor\, this stacked lineup has something for every comedy fan. Join us for a night of laughter\, drinks\, and fun for the whole (adult) family.</div>\n\n<div class="x11i5rnm xat24cr x1mh8g0r x1vvkbs xtlvy1s" style="margin: 0.5em 0px 0px\; overflow-wrap: break-word\; font-family: &quot\;Segoe UI Historic&quot\;\, &quot\;Segoe UI&quot\;\, Helvetica\, Arial\, sans-serif\; color: rgb(5\, 5\, 5)\; font-size: 15px\;"><br />\nLineup Bio</div>\n\n<div class="x11i5rnm xat24cr x1mh8g0r x1vvkbs xtlvy1s" style="margin: 0.5em 0px 0px\; overflow-wrap: break-word\; font-family: &quot\;Segoe UI Historic&quot\;\, &quot\;Segoe UI&quot\;\, Helvetica\, Arial\, sans-serif\; color: rgb(5\, 5\, 5)\; font-size: 15px\;">You&rsquo\;ve seen our comics performing on Kill Tony\, featuring at clubs in Austin\, Houston\, DFW\, San Antonio\, El Paso and everywhere in between. They&rsquo\;ve come from all over the country to hone their talents in Texas: the new national hot spot for comedy. Featuring headliners Gabriel Kerr &amp\; Scott Wharton.</div>\n\n<div class="x11i5rnm xat24cr x1mh8g0r x1vvkbs xtlvy1s" style="margin: 0.5em 0px 0px\; overflow-wrap: break-word\; font-family: &quot\;Segoe UI Historic&quot\;\, &quot\;Segoe UI&quot\;\, Helvetica\, Arial\, sans-serif\; color: rgb(5\, 5\, 5)\; font-size: 15px\;"><strong>Tickets are on sale NOW so reserve your seat before they sell out at:</strong></div>\n\n<div class="x11i5rnm xat24cr x1mh8g0r x1vvkbs xtlvy1s" style="margin: 0.5em 0px 0px\; overflow-wrap: break-word\; font-family: &quot\;Segoe UI Historic&quot\;\, &quot\;Segoe UI&quot\;\, Helvetica\, Arial\, sans-serif\; color: rgb(5\, 5\, 5)\; font-size: 15px\;"><strong><a class="x1i10hfl xjbqb8w x1ejq31n xd10rxx x1sy0etr x17r0tee x972fbf xcfux6l x1qhh985 xm0m39n x9f619 x1ypdohk xt0psk2 xe8uvvx xdj266r x11i5rnm xat24cr x1mh8g0r xexx8yu x4uap5 x18d9i69 xkhd6sd x16tdsg8 x1hl2dhg xggy1nq x1a2a7pz xt0b8zv x1fey0fg" href="https://l.facebook.com/l.php?u=https%3A%2F%2Fwww.eventbrite.com%2Fe%2Flive-comedy-show-at-the-beltonian-tickets-821006381187%3Ffbclid%3DIwAR1r7CPwESfgB6fL-x9gTmCcpjZ4g4JIDzXsGqwqxkspg5zZrKK8JAzS8KE&amp\;h=AT1NMoTwT0wow0m4PaaktiyfF0DfBPLaN33xLf0cDUqXZfi05IzFkG45CS4jdowwKFyXPEHzQgfibTJ_sZTLZHeCdeMfg2Om7bXj2ZzYAI-fQu_rrlBdGFmd3R80Z9Ir_g&amp\;__tn__=q&amp\;c[0]=AT0Ak_Qoe74ZoyBO03xQ3XDOMXcSRdtk_I-rB3qYSz409jaJLv4zIsntqIym--k_dv6gJX8iAfLnToEt_P4tNBj5nH2uMm2tq41bONeVIzQ0grIXbmwT9oPIcJSirfCS2f0rWwnq_pLFZxATpW3E2_OBHJiG" rel="nofollow noreferrer" role="link" style="color: var(--blue-link)\; cursor: pointer\; text-decoration-line: none\; outline: none\; list-style: none\; margin: 0px\; text-align: inherit\; border-style: none\; padding: 0px\; border-width: 0px\; box-sizing: border-box\; background-color: transparent\; display: inline\; -webkit-tap-highlight-color: transparent\; touch-action: manipulation\; font-family: inherit\;" tabindex="0" target="_blank">https://www.eventbrite.com/.../live-comedy-show-at-the...</a></strong></div>\n
LOCATION:The Beltonian Theatre 219 E. Central Ave Belton\, TX 76513
UID:e.300.17953
SEQUENCE:3
DTSTAMP:20260422T152647Z
URL:https://business.beltonchamber.com/events/details/live-comedy-show-at-the-beltonian-theatre-17953
END:VEVENT

END:VCALENDAR
