BEGIN:VCALENDAR
VERSION:2.0
PRODID:-//ChamberMaster//Event Calendar 2.0//EN
METHOD:PUBLISH
X-PUBLISHED-TTL:P3D
REFRESH-INTERVAL:P3D
CALSCALE:GREGORIAN
BEGIN:VEVENT
DTSTART:20200626T230000Z
DTEND:20200628T020000Z
X-MICROSOFT-CDO-ALLDAYEVENT:FALSE
SUMMARY:Luck of the Lake Poker Run on Lake Belton
DESCRIPTION:Join us for our Luck of the Lake Poker Run fundraising event on June 26th & 27th benefiting Central Texas Children's Center!!  We will kick off the event on the evening of June 26th at Dead Fish Grill and start the main event on June 27th starting at 10:00AM with boating\, food\, live music\, prizes\, and tons of fun all on Belton Lake!   Visit www.active.com to register for the event or find more event information on the center's website at www.centexchildrenscenter.com
X-ALT-DESC;FMTTYPE=text/html:Join us for our Luck of the Lake Poker Run fundraising event on June 26th &amp\; 27th benefiting Central Texas Children&#39\;s Center!!&nbsp\; We will kick off the event on the evening of June 26th at Dead Fish Grill and start the main event on June 27th starting at 10:00AM with boating\, food\, live music\, prizes\, and tons of fun all on Belton Lake!&nbsp\; &nbsp\;Visit www.active.com to register for the event or find more event information on the center&#39\;s website at www.centexchildrenscenter.com&nbsp\;
LOCATION:Friday Kick off Bash at Dead Fish Grill 2207 Lake Rd\, Belton\, TX 76513 Saturday Poker Run starts at Franks Marina 3260 Lake Park Rd\, Belton\, TX 76513
UID:e.300.15382
SEQUENCE:3
DTSTAMP:20260421T123127Z
URL:https://business.beltonchamber.com/events/details/luck-of-the-lake-poker-run-on-lake-belton-15382
END:VEVENT

END:VCALENDAR
