BEGIN:VCALENDAR
VERSION:2.0
PRODID:-//ChamberMaster//Event Calendar 2.0//EN
METHOD:PUBLISH
X-PUBLISHED-TTL:P3D
REFRESH-INTERVAL:P3D
CALSCALE:GREGORIAN
BEGIN:VEVENT
DTSTART:20191019T140000Z
DTEND:20191019T210000Z
X-MICROSOFT-CDO-ALLDAYEVENT:FALSE
SUMMARY:Market Days
DESCRIPTION:Buying\, selling and trading in downtown Belton. Come see our vendors and farmer's market in our historic downtown on Central Ave. Enjoy food and entertainment. Every 3rd Saturday of the month.
X-ALT-DESC;FMTTYPE=text/html:Buying\, selling and trading in downtown Belton. Come see our vendors and farmer&#39\;s market in our historic downtown on Central Ave. Enjoy food and entertainment. Every 3rd Saturday of the month.
LOCATION:Downtown Historic Belton
UID:e.300.14292
SEQUENCE:3
DTSTAMP:20260422T164153Z
URL:https://business.beltonchamber.com/events/details/market-days-14292
END:VEVENT

END:VCALENDAR
