BEGIN:VCALENDAR
VERSION:2.0
PRODID:-//ChamberMaster//Event Calendar 2.0//EN
METHOD:PUBLISH
X-PUBLISHED-TTL:P3D
REFRESH-INTERVAL:P3D
CALSCALE:GREGORIAN
BEGIN:VEVENT
DTSTART:20190927T123000Z
DTEND:20190927T200000Z
X-MICROSOFT-CDO-ALLDAYEVENT:FALSE
SUMMARY:Mental Health Conference
DESCRIPTION:Reducing the stigma to increase awareness and drive change!
X-ALT-DESC;FMTTYPE=text/html:Reducing the stigma to increase awareness and drive change!
LOCATION:Central Texas Workforce Solutions 201 Santa Fe Way\, Conference Room 154 Temple\, TX 76501
UID:e.300.15117
SEQUENCE:3
DTSTAMP:20260422T180434Z
URL:https://business.beltonchamber.com/events/details/mental-health-conference-15117
END:VEVENT

END:VCALENDAR
