BEGIN:VCALENDAR
VERSION:2.0
PRODID:-//ChamberMaster//Event Calendar 2.0//EN
METHOD:PUBLISH
X-PUBLISHED-TTL:P3D
REFRESH-INTERVAL:P3D
CALSCALE:GREGORIAN
BEGIN:VEVENT
DTSTART:20210503T160000Z
DTEND:20210512T170000Z
X-MICROSOFT-CDO-ALLDAYEVENT:FALSE
SUMMARY:MS EXCEL 2016 - ADVANCED
DESCRIPTION:ITSW 2048 / CEUs: 0.8 / $179 /\n\nMay 3-12 / Mondays and Wednesdays\n\nClass will meet virtually from 11 a.m.   12 p.m.\n\n\n\nWouldn't it be great to learn how to effectively use all of the advanced Excel features? Through this hands-on workshop\,\n\nyou will learn how to:\n\n	Add functional and eye-catching custom controls\n	Use advanced techniques for PivotTables\n	Master the art of conditional formatting
X-ALT-DESC;FMTTYPE=text/html:<strong>ITSW 2048 / CEUs: 0.8 / $179 /<br />\nMay 3-12 / Mondays and Wednesdays<br />\nClass will meet virtually from 11 a.m. &minus\; 12 p.m.</strong><br />\n<br />\nWouldn&rsquo\;t it be great to learn how to effectively use all of the advanced Excel features? Through this hands-on workshop\,<br />\nyou will learn how to:\n<ul>\n	<li>Add functional and eye-catching custom controls</li>\n	<li>Use advanced techniques for PivotTables</li>\n	<li>Master the art of conditional formatting</li>\n</ul>\n
LOCATION:
UID:e.300.15663
SEQUENCE:3
DTSTAMP:20260424T125921Z
URL:https://business.beltonchamber.com/events/details/ms-excel-2016-advanced-05-03-2021-15663
END:VEVENT

END:VCALENDAR
