BEGIN:VCALENDAR
VERSION:2.0
PRODID:-//ChamberMaster//Event Calendar 2.0//EN
METHOD:PUBLISH
X-PUBLISHED-TTL:P3D
REFRESH-INTERVAL:P3D
CALSCALE:GREGORIAN
BEGIN:VEVENT
DTSTART:20210323T230000Z
DTEND:20210409T000000Z
X-MICROSOFT-CDO-ALLDAYEVENT:FALSE
SUMMARY:MS WORD 2016 - INTRODUCTION
DESCRIPTION:POFI 1024 / CEUs: 1.2 / $209 /\n\nMarch 23   April 8 / Tuesdays and Thursdays\n\nClass will meet virtually from 6   7 p.m.\n\n\n\nMicrosoft Word is an essential skill for success in today's business world\, whether you are beginning your career in a support position or are an executive. This class will teach you how to:\n\n	Create\, format\, and edit basic business files\n	Edit documents using spell check\, dictionary\, and thesaurus\n	Save files and print documents
X-ALT-DESC;FMTTYPE=text/html:<strong>POFI 1024 / CEUs: 1.2 / $209 /<br />\nMarch 23 &minus\; April 8 / Tuesdays and Thursdays<br />\nClass will meet virtually from 6 &ndash\; 7 p.m.</strong><br />\n<br />\nMicrosoft Word is an essential skill for success in today&rsquo\;s business world\, whether you are beginning your career in a support position or are an executive. This class will teach you how to:\n<ul>\n	<li>Create\, format\, and edit basic business files</li>\n	<li>Edit documents using spell check\, dictionary\, and thesaurus</li>\n	<li>Save files and print documents</li>\n</ul>\n
LOCATION:
UID:e.300.15664
SEQUENCE:3
DTSTAMP:20260421T134431Z
URL:https://business.beltonchamber.com/events/details/ms-word-2016-introduction-03-23-2021-15664
END:VEVENT

END:VCALENDAR
