BEGIN:VCALENDAR
VERSION:2.0
PRODID:-//ChamberMaster//Event Calendar 2.0//EN
METHOD:PUBLISH
X-PUBLISHED-TTL:P3D
REFRESH-INTERVAL:P3D
CALSCALE:GREGORIAN
BEGIN:VEVENT
DTSTART:20250409T140000Z
DTEND:20250409T150000Z
X-MICROSOFT-CDO-ALLDAYEVENT:FALSE
SUMMARY:Music around the Museum
DESCRIPTION:Did you know\, Singing and dancing together help children feel connected to others and develop a sense of belonging?\n\nCome sing and dance with us for "Music around the Museum\," a partnership with Acad mie Musique! Our first class is on March 19\, 2025 from 9:00 a.m. - 10:00 a.m.\n\nTickets are required! The cost is general admission plus $4 per participating child. Once the class is over the museum is yours to explore at no extra cost!\n\nThis is a four week journey\, with programs on March 19 and 26 plus April 2 and 9. Each class is different and will have their own individual reservation.
X-ALT-DESC;FMTTYPE=text/html:<div class="xdj266r x11i5rnm xat24cr x1mh8g0r x1vvkbs" style="margin: 0px\; overflow-wrap: break-word\; font-family: &quot\;Segoe UI Historic&quot\;\, &quot\;Segoe UI&quot\;\, Helvetica\, Arial\, sans-serif\; color: rgb(8\, 8\, 9)\; font-size: 15px\;"><span style="font-size:20px\;">Did you know\, Singing and dancing together help children feel connected to others and develop a sense of belonging?<br class="html-br" />\nCome sing and dance with us for &quot\;Music around the Museum\,&quot\; a partnership with Acad&eacute\;mie Musique! Our first class is on March 19\, 2025 from 9:00 a.m. - 10:00 a.m.<br class="html-br" />\nTickets are required! The cost is general admission plus $4 per participating child. Once the class is over the museum is yours to explore at no extra cost!</span></div>\n\n<div class="x11i5rnm xat24cr x1mh8g0r x1vvkbs xtlvy1s" style="margin: 0.5em 0px 0px\; overflow-wrap: break-word\; font-family: &quot\;Segoe UI Historic&quot\;\, &quot\;Segoe UI&quot\;\, Helvetica\, Arial\, sans-serif\; color: rgb(8\, 8\, 9)\; font-size: 15px\;"><span style="font-size:20px\;">This is a four week journey\, with programs on March 19 and 26 plus April 2 and 9. Each class is different and will have their own individual reservation.&nbsp\;</span></div>\n
LOCATION:Temple Children's Museum 11 N. 4th St Temple\, TX 76501
UID:e.300.18179
SEQUENCE:3
DTSTAMP:20260421T211546Z
URL:https://business.beltonchamber.com/events/details/music-around-the-museum-18179
END:VEVENT

END:VCALENDAR
