BEGIN:VCALENDAR
VERSION:2.0
PRODID:-//ChamberMaster//Event Calendar 2.0//EN
METHOD:PUBLISH
X-PUBLISHED-TTL:P3D
REFRESH-INTERVAL:P3D
CALSCALE:GREGORIAN
BEGIN:VEVENT
DTSTART:20251026T003000Z
DTEND:20251026T030000Z
X-MICROSOFT-CDO-ALLDAYEVENT:FALSE
SUMMARY:Nosferatu: A Symphony of Horror
DESCRIPTION:Nosferatu: A Symphony of Horror\n\nOctober 25\, 2025\n\nTemple High School Auditorium\, 415 N. 31st St\, Temple\, TX\n\nPresented by the Temple Symphony Orchestra\n\nStep into the shadows this October as the Temple Symphony Orchestra presents Nosferatu: A Symphony of Horror a chilling cinematic experience like no other.\n\nWatch the iconic 1922 silent film Nosferatu\, one of the earliest and most haunting vampire films ever made\, brought to life with a live chamber orchestra performing an original score. The eerie flicker of silent cinema meets the thrilling tension of live music in this unforgettable Halloween-season event.\n\nWhether you're a fan of classic horror\, silent film\, or dramatic live performance\, this one-night-only event promises to send shivers down your spine in the best way.\n\nCostumes welcome.\n\nRated for atmospheric thrills\n\nDon't miss this hauntingly beautiful blend of film and music. One night only. One unforgettable experience.
X-ALT-DESC;FMTTYPE=text/html:<div>Nosferatu: A Symphony of Horror<br />\nOctober 25\, 2025<br />\nTemple High School Auditorium\, 415 N. 31st St\, Temple\, TX<br />\nPresented by the Temple Symphony Orchestra</div>\n\n<div>Step into the shadows this October as the Temple Symphony Orchestra presents Nosferatu: A Symphony of Horror&mdash\;a chilling cinematic experience like no other.</div>\n\n<div>Watch the iconic 1922 silent film Nosferatu\, one of the earliest and most haunting vampire films ever made\, brought to life with a live chamber orchestra performing an original score. The eerie flicker of silent cinema meets the thrilling tension of live music in this unforgettable Halloween-season event.</div>\n\n<div>Whether you&#39\;re a fan of classic horror\, silent film\, or dramatic live performance\, this one-night-only event promises to send shivers down your spine&mdash\;in the best way.</div>\n\n<div>Costumes welcome.<br />\nRated for atmospheric thrills</div>\n\n<div>Don&rsquo\;t miss this hauntingly beautiful blend of film and music. One night only. One unforgettable experience.</div>\n\n<div>&nbsp\;</div>\n
LOCATION:Temple High School Auditorium 415 N 31st St Temple\, TX 76501
UID:e.300.18870
SEQUENCE:3
DTSTAMP:20260421T110223Z
URL:https://business.beltonchamber.com/events/details/nosferatu-a-symphony-of-horror-18870
END:VEVENT

END:VCALENDAR
