BEGIN:VCALENDAR
VERSION:2.0
PRODID:-//ChamberMaster//Event Calendar 2.0//EN
METHOD:PUBLISH
X-PUBLISHED-TTL:P3D
REFRESH-INTERVAL:P3D
CALSCALE:GREGORIAN
BEGIN:VEVENT
DTSTART;VALUE=DATE:20110519
DTEND;VALUE=DATE:20110520
TRANSP:TRANSPARENT
X-MICROSOFT-CDO-ALLDAYEVENT:TRUE
SUMMARY:"Oklahoma!"
DESCRIPTION:This Rodgers and Hammerstein musical set in the early 1900s\, features cowboys\, farmers\, and country romance. The Beltonian Theater is showing "Oklahoma!" Thursday\, May 19\, at 6 p.m. Doors open at 5 p.m.  Admission is $6.
X-ALT-DESC;FMTTYPE=text/html:This Rodgers and Hammerstein musical set in the early 1900s\, features cowboys\, farmers\, and country romance. The Beltonian Theater is showing "Oklahoma!" Thursday\, May 19\, at 6 p.m. Doors open at 5 p.m.  Admission is $6.
LOCATION:The Beltonian Theater
UID:e.300.5357
SEQUENCE:3
DTSTAMP:20260425T011856Z
URL:https://business.beltonchamber.com/events/details/oklahoma-05-19-2011-5357
END:VEVENT

END:VCALENDAR
