BEGIN:VCALENDAR
VERSION:2.0
PRODID:-//ChamberMaster//Event Calendar 2.0//EN
METHOD:PUBLISH
X-PUBLISHED-TTL:P3D
REFRESH-INTERVAL:P3D
CALSCALE:GREGORIAN
BEGIN:VEVENT
DTSTART;VALUE=DATE:20110521
DTEND;VALUE=DATE:20110522
TRANSP:TRANSPARENT
X-MICROSOFT-CDO-ALLDAYEVENT:TRUE
SUMMARY:"Oklahoma!"
DESCRIPTION:This Rodgers and Hammerstein musical set in the early 1900s\, features cowboys\, farmers\, and country romance. The Beltonian Theater is showing "Oklahoma!" Saturday\, May 21\, at 6 p.m. Doors open at 5 p.m. Admission is $6.
X-ALT-DESC;FMTTYPE=text/html:This Rodgers and Hammerstein musical set in the early 1900s\, features cowboys\, farmers\, and country romance. The Beltonian Theater is showing &quot\;Oklahoma!&quot\; Saturday\, May 21\, at 6 p.m. Doors open at 5 p.m. Admission is $6.
LOCATION:The Beltonian Theater
UID:e.300.5359
SEQUENCE:3
DTSTAMP:20260424T155837Z
URL:https://business.beltonchamber.com/events/details/oklahoma-05-21-2011-5359
END:VEVENT

END:VCALENDAR
