BEGIN:VCALENDAR
VERSION:2.0
PRODID:-//ChamberMaster//Event Calendar 2.0//EN
METHOD:PUBLISH
X-PUBLISHED-TTL:P3D
REFRESH-INTERVAL:P3D
CALSCALE:GREGORIAN
BEGIN:VEVENT
DTSTART:20190619T230000Z
DTEND:20190620T003000Z
X-MICROSOFT-CDO-ALLDAYEVENT:FALSE
SUMMARY:Parade Participant Meeting
DESCRIPTION:
X-ALT-DESC;FMTTYPE=text/html:
LOCATION:Pittenger Fine Arts\, 400 N Wall St\, Belton
UID:e.300.15114
SEQUENCE:3
DTSTAMP:20260425T024200Z
URL:https://business.beltonchamber.com/events/details/parade-participant-meeting-15114
END:VEVENT

END:VCALENDAR
