BEGIN:VCALENDAR
VERSION:2.0
PRODID:-//ChamberMaster//Event Calendar 2.0//EN
METHOD:PUBLISH
X-PUBLISHED-TTL:P3D
REFRESH-INTERVAL:P3D
CALSCALE:GREGORIAN
BEGIN:VEVENT
DTSTART:20241018T223000Z
DTEND:20241019T013000Z
X-MICROSOFT-CDO-ALLDAYEVENT:FALSE
SUMMARY:Pistons on the Creek
DESCRIPTION:Come down to Nolan Creek and show off your ride\, classic\, modern\, muscle\, rat rod\, exotic\, all automotive enthusiasts are welcome!  Support our awesome downtown businesses and restaurants with some great atmosphere\, music\, food and drinks!
X-ALT-DESC;FMTTYPE=text/html:<span style="display: none\;">&nbsp\;</span><span style="font-size:16px\;"><strong><span style="color: rgb(5\, 5\, 5)\; font-family: &quot\;Segoe UI Historic&quot\;\, &quot\;Segoe UI&quot\;\, Helvetica\, Arial\, sans-serif\;">Come down to Nolan Creek and show off your ride\, classic\, modern\, muscle\, rat rod\, exotic\, all automotive enthusiasts are welcome!&nbsp\;&nbsp\;Support our awesome downtown businesses and restaurants with some great atmosphere\, music\, food and drinks!&nbsp\;</span></strong></span><span style="display: none\;">&nbsp\;</span>
LOCATION:Parking Lot Behind The Gin (219 S. East Street)
UID:e.300.18011
SEQUENCE:3
DTSTAMP:20260422T132444Z
URL:https://business.beltonchamber.com/events/details/pistons-on-the-creek-18011
END:VEVENT

END:VCALENDAR
