BEGIN:VCALENDAR
VERSION:2.0
PRODID:-//ChamberMaster//Event Calendar 2.0//EN
METHOD:PUBLISH
X-PUBLISHED-TTL:P3D
REFRESH-INTERVAL:P3D
CALSCALE:GREGORIAN
BEGIN:VEVENT
DTSTART:20200331T133000Z
DTEND:20200331T143000Z
X-MICROSOFT-CDO-ALLDAYEVENT:FALSE
SUMMARY:POSTPONED: C3- Chamber Coffee Connection
DESCRIPTION:Guest speaker\, Shannon Johnson-Quaife\, Ph.D\n\nAlzheimer's Texas
X-ALT-DESC;FMTTYPE=text/html:Guest speaker\, Shannon Johnson-Quaife\, Ph.D<br />\nAlzheimer&#39\;s Texas
LOCATION:Belton Area Chamber of Commerce 412 E Central Ave\, Belton
UID:e.300.15283
SEQUENCE:3
DTSTAMP:20260422T090721Z
URL:https://business.beltonchamber.com/events/details/postponed-c3-chamber-coffee-connection-15283
END:VEVENT

END:VCALENDAR
