BEGIN:VCALENDAR
VERSION:2.0
PRODID:-//ChamberMaster//Event Calendar 2.0//EN
METHOD:PUBLISH
X-PUBLISHED-TTL:P3D
REFRESH-INTERVAL:P3D
CALSCALE:GREGORIAN
BEGIN:VEVENT
DTSTART:20190705T230000Z
DTEND:20190706T020000Z
X-MICROSOFT-CDO-ALLDAYEVENT:FALSE
SUMMARY:PRCA Rodeo
DESCRIPTION:
X-ALT-DESC;FMTTYPE=text/html:
LOCATION:Bell County Expo Center 301 W Loop 121 Belton TX 76513
UID:e.300.13625
SEQUENCE:3
DTSTAMP:20260425T024217Z
URL:https://business.beltonchamber.com/events/details/prca-rodeo-07-05-2019-13625
END:VEVENT

END:VCALENDAR
