BEGIN:VCALENDAR
VERSION:2.0
PRODID:-//ChamberMaster//Event Calendar 2.0//EN
METHOD:PUBLISH
X-PUBLISHED-TTL:P3D
REFRESH-INTERVAL:P3D
CALSCALE:GREGORIAN
BEGIN:VEVENT
DTSTART:20110823T140000Z
DTEND:20111115T220000Z
X-MICROSOFT-CDO-ALLDAYEVENT:FALSE
SUMMARY:Register for AHA CPR/First Aid Certification Classes
DESCRIPTION:CPR/First Aid Certification classes through the American Heart Association.\n\n\n\nClasses are October 18th & November 15th from 6pm-10pm.\n\n$20 per class\n\n12yrs of age & Up (minors must be with parent)\n\n\n\nRegister at the Harris Community Center\, Monday-Friday\, 9am-4pm.\n\nFor more information\, visit us on our website at www.ci.belton.tx.us or give us a call at 254-933-5861.
X-ALT-DESC;FMTTYPE=text/html:<span style="color: #ff0000"><strong>CPR/First Aid Certification</strong></span> classes through the American Heart Association.<br />\n<br />\nClasses are October 18th &amp\; November 15th from 6pm-10pm.<br />\n<span style="background-color: #ffff00">$20 per class</span><br />\n12yrs of age &amp\; Up (minors must be with parent)<br />\n<br />\nRegister at the Harris Community Center\, Monday-Friday\, 9am-4pm.<br />\nFor more information\, visit us on our website at <a href="http://www.ci.belton.tx.us">www.ci.belton.tx.us</a> or give us a call at 254-933-5861.
LOCATION:Harris Community Center 401 N Alexander Belton\, TX 76513
UID:e.300.5854
SEQUENCE:3
DTSTAMP:20260420T010212Z
URL:https://business.beltonchamber.com/events/details/register-for-aha-cpr-first-aid-certification-classes-08-23-2011-5854
END:VEVENT

END:VCALENDAR
