BEGIN:VCALENDAR
VERSION:2.0
PRODID:-//ChamberMaster//Event Calendar 2.0//EN
METHOD:PUBLISH
X-PUBLISHED-TTL:P3D
REFRESH-INTERVAL:P3D
CALSCALE:GREGORIAN
BEGIN:VEVENT
DTSTART:20210719T163000Z
DTEND:20210719T173000Z
X-MICROSOFT-CDO-ALLDAYEVENT:FALSE
SUMMARY:Report From the State Capitol
DESCRIPTION:Join us for a virtual conversation with State Representative Hugh D. Shine with a "Report From the State Capitol" surrounding the Special Session of the Texas Legislature. \n\n\n\nThe Temple and Belton Area Chambers of Commerce are co-hosting a Legislative Update with Representative Hugh Shine on Monday\, July 19\, 11:30 a.m. via Zoom at the following link:\n\n \n\nhttps://us02web.zoom.us/j/84918659188?pwd=VmlHYWFCS05pOU12bmY3QVJXS0ZMQT09\n\n \n\nMeeting ID: 849 1865 9188\n\nPasscode: 580640
X-ALT-DESC;FMTTYPE=text/html:Join us for a virtual conversation with State Representative Hugh D. Shine with a &quot\;Report From the State Capitol&quot\; surrounding the Special Session of the Texas Legislature.&nbsp\;<br />\n<br />\nThe Temple and Belton Area Chambers of Commerce<a name="WinZmBookmark_zCC544"> are co-hosting a Legislative Update with Representative Hugh Shine on <u>Monday\, July 19\, 11:30 a.m.</u> via Zoom</a> at the following link:<br />\n&nbsp\;<br />\n<a href="https://us02web.zoom.us/j/84918659188?pwd=VmlHYWFCS05pOU12bmY3QVJXS0ZMQT09">https://us02web.zoom.us/j/84918659188?pwd=VmlHYWFCS05pOU12bmY3QVJXS0ZMQT09</a><br />\n&nbsp\;<br />\nMeeting ID: 849 1865 9188<br />\nPasscode: 580640<br />\n&nbsp\;
LOCATION:
UID:e.300.16048
SEQUENCE:3
DTSTAMP:20260421T084317Z
URL:https://business.beltonchamber.com/events/details/report-from-the-state-capitol-16048
END:VEVENT

END:VCALENDAR
