BEGIN:VCALENDAR
VERSION:2.0
PRODID:-//ChamberMaster//Event Calendar 2.0//EN
METHOD:PUBLISH
X-PUBLISHED-TTL:P3D
REFRESH-INTERVAL:P3D
CALSCALE:GREGORIAN
BEGIN:VEVENT
DTSTART:20200418T130000Z
DTEND:20200418T220000Z
X-MICROSOFT-CDO-ALLDAYEVENT:FALSE
SUMMARY:Residential Construction Fundamentals
DESCRIPTION:Learn how to frame a window or door\, replace shingles\, and repair drywall.  The course also covers painting tools and techniques.
X-ALT-DESC;FMTTYPE=text/html:Learn how to frame a window or door\, replace shingles\, and repair drywall.&nbsp\; The course also covers painting tools and techniques.
LOCATION:Maintenance Building\, Room 1201 Temple College 2600 S. First St. Temple\, TX 76504
UID:e.300.13361
SEQUENCE:3
DTSTAMP:20260421T081237Z
URL:https://business.beltonchamber.com/events/details/residential-construction-fundamentals-13361
END:VEVENT

END:VCALENDAR
