BEGIN:VCALENDAR
VERSION:2.0
PRODID:-//ChamberMaster//Event Calendar 2.0//EN
METHOD:PUBLISH
X-PUBLISHED-TTL:P3D
REFRESH-INTERVAL:P3D
CALSCALE:GREGORIAN
BEGIN:VEVENT
DTSTART;VALUE=DATE:20220107
DTEND;VALUE=DATE:20220108
TRANSP:TRANSPARENT
X-MICROSOFT-CDO-ALLDAYEVENT:TRUE
SUMMARY:Ribbon Cutting - 100x35 Latin Cuisine
DESCRIPTION:Please join us at a ribbon cutting for 100x35 Latin Cuisine.  100 x 35 = the measurements of the beautiful island of Puerto Rico. They are a family owned and operated food truck offering Puerto Rican cuisine on wheels in Belton Texas. Their food is inspired by their culture and prepared with love.  Food is definitely a love language\, let us them you. Add some spice to your life on a plate. Veteran and son on board.
X-ALT-DESC;FMTTYPE=text/html:<strong><span style="font-family:verdana\;"><span style="font-size:20px\;">Please join us at a ribbon cutting for 100x35 Latin Cuisine.&nbsp\;&nbsp\;</span></span><span style="font-size:20px\;"><span style="font-family:verdana\;">100 x 35 = the measurements of the beautiful island of Puerto Rico. They are a family owned and operated food truck offering Puerto Rican cuisine on wheels in Belton Texas. Their food is inspired by their culture and prepared with love.&nbsp\;&nbsp\;<span style="color: rgb(56\, 55\, 55)\;">Food is definitely a love language\, let us them you. Add some spice to your life on a plate. Veteran and son on board.</span></span></span></strong>
LOCATION:426 E. Central Ave. - Belton Our food truck is located in Belton TX on 426 E. Central Ave. in between Signs & Banners and the Belton Chamber of Commerce.
UID:e.300.16082
SEQUENCE:3
DTSTAMP:20260424T055606Z
URL:https://business.beltonchamber.com/events/details/ribbon-cutting-100x35-latin-cuisine-16082
END:VEVENT

END:VCALENDAR
