BEGIN:VCALENDAR
VERSION:2.0
PRODID:-//ChamberMaster//Event Calendar 2.0//EN
METHOD:PUBLISH
X-PUBLISHED-TTL:P3D
REFRESH-INTERVAL:P3D
CALSCALE:GREGORIAN
BEGIN:VEVENT
DTSTART:20200229T170000Z
DTEND:20200229T173000Z
X-MICROSOFT-CDO-ALLDAYEVENT:FALSE
SUMMARY:Ribbon Cutting - Bell County Motowork
DESCRIPTION:The dust is setting. The final fixtures are being assembled and the all new Triumph and Indian Motorcycle gear is getting put out.\n\n\n\nWe are celebrating our opening Temple\, Texas on February 29th with a huge party. It all starts at 11 and will run till about 5pm.\n\n\n\n11 am - Ribbon Cutting w/ Temple Chamber of Commerce\, Belton Area Chamber of Commerce\, & Greater Killeen Chamber of Commerce\n\n\n\n1:30p - We will be handing over the mic to local riding clubs to introduce yourselves. Be sure bring all your riding friends and family. We want to help you grow your riding family. Triumph Riders Club - Austin Texas\, IRON HORSE - IMRG of Central TX\, US Veterans MC Texas Lonestar\, Queens of Sheba Motorcycle Club: Killeen\, TX\, Silverbacks Motorcycle Club\, TriCounty Toy Run of Central Texas\, Combat Vets 23-17 "Devil's Backbone"\, Buffalo Soldiers MC Killeen\, TX\, [if we did not tag you we could not find your page]\n\n\n\nFood - Treno Pizzeria and Taproom with have their trailer on site\n\nBarber - Dapper&Dashin' Salon and Shop will have chairs set up cutting hair and giving clean hot shaves\n\nDJ/MC - Robbie and his Red Shoes of course
X-ALT-DESC;FMTTYPE=text/html:<span style="color: rgb(29\, 33\, 41)\; font-family: Helvetica\, Arial\, sans-serif\; font-size: 14px\; white-space: pre-wrap\;">The dust is setting. The final fixtures are being assembled and the all new Triumph and Indian Motorcycle gear is getting put out.</span><br style="color: rgb(29\, 33\, 41)\; font-family: Helvetica\, Arial\, sans-serif\; font-size: 14px\; white-space: pre-wrap\;" />\n<br style="color: rgb(29\, 33\, 41)\; font-family: Helvetica\, Arial\, sans-serif\; font-size: 14px\; white-space: pre-wrap\;" />\n<span style="color: rgb(29\, 33\, 41)\; font-family: Helvetica\, Arial\, sans-serif\; font-size: 14px\; white-space: pre-wrap\;">We are celebrating our opening Temple\, Texas on February 29th with a huge party. It all starts at 11 and will run till about 5pm.</span><br style="color: rgb(29\, 33\, 41)\; font-family: Helvetica\, Arial\, sans-serif\; font-size: 14px\; white-space: pre-wrap\;" />\n<br style="color: rgb(29\, 33\, 41)\; font-family: Helvetica\, Arial\, sans-serif\; font-size: 14px\; white-space: pre-wrap\;" />\n<span style="color: rgb(29\, 33\, 41)\; font-family: Helvetica\, Arial\, sans-serif\; font-size: 14px\; white-space: pre-wrap\;">11 am - Ribbon Cutting w/ </span><a href="https://www.facebook.com/templechamber/" style="color: rgb(56\, 88\, 152)\; cursor: pointer\; text-decoration-line: none\; font-family: Helvetica\, Arial\, sans-serif\; font-size: 14px\; white-space: pre-wrap\;" target="_blank">Temple Chamber of Commerce</a><span style="color: rgb(29\, 33\, 41)\; font-family: Helvetica\, Arial\, sans-serif\; font-size: 14px\; white-space: pre-wrap\;">\, </span><a href="https://www.facebook.com/beltonchamber/" style="color: rgb(56\, 88\, 152)\; cursor: pointer\; text-decoration-line: none\; font-family: Helvetica\, Arial\, sans-serif\; font-size: 14px\; white-space: pre-wrap\;" target="_blank">Belton Area Chamber of Commerce</a><span style="color: rgb(29\, 33\, 41)\; font-family: Helvetica\, Arial\, sans-serif\; font-size: 14px\; white-space: pre-wrap\;">\, &amp\; </span><a href="https://www.facebook.com/killeenchamber/" style="color: rgb(56\, 88\, 152)\; cursor: pointer\; text-decoration-line: none\; font-family: Helvetica\, Arial\, sans-serif\; font-size: 14px\; white-space: pre-wrap\;" target="_blank">Greater Killeen Chamber of Commerce</a><br style="color: rgb(29\, 33\, 41)\; font-family: Helvetica\, Arial\, sans-serif\; font-size: 14px\; white-space: pre-wrap\;" />\n<br style="color: rgb(29\, 33\, 41)\; font-family: Helvetica\, Arial\, sans-serif\; font-size: 14px\; white-space: pre-wrap\;" />\n<span style="color: rgb(29\, 33\, 41)\; font-family: Helvetica\, Arial\, sans-serif\; font-size: 14px\; white-space: pre-wrap\;">1:30p - We will be handing over the mic to local riding clubs to introduce yourselves. Be sure bring all your riding friends and family. We want to help you grow your riding family. </span><a href="https://www.facebook.com/groups/220900668367649/" style="color: rgb(56\, 88\, 152)\; cursor: pointer\; text-decoration-line: none\; font-family: Helvetica\, Arial\, sans-serif\; font-size: 14px\; white-space: pre-wrap\;" target="_blank">Triumph Riders Club - Austin Texas</a><span style="color: rgb(29\, 33\, 41)\; font-family: Helvetica\, Arial\, sans-serif\; font-size: 14px\; white-space: pre-wrap\;">\, </span><a href="https://www.facebook.com/groups/IMRGCentralTexas/" style="color: rgb(56\, 88\, 152)\; cursor: pointer\; text-decoration-line: none\; font-family: Helvetica\, Arial\, sans-serif\; font-size: 14px\; white-space: pre-wrap\;" target="_blank">IRON HORSE - IMRG of Central TX</a><span style="color: rgb(29\, 33\, 41)\; font-family: Helvetica\, Arial\, sans-serif\; font-size: 14px\; white-space: pre-wrap\;">\, US Veterans MC Texas Lonestar\, </span><a href="https://www.facebook.com/QOSMCKTX/" style="color: rgb(56\, 88\, 152)\; cursor: pointer\; text-decoration-line: none\; font-family: Helvetica\, Arial\, sans-serif\; font-size: 14px\; white-space: pre-wrap\;" target="_blank">Queens of Sheba Motorcycle Club: Killeen\, TX</a><span style="color: rgb(29\, 33\, 41)\; font-family: Helvetica\, Arial\, sans-serif\; font-size: 14px\; white-space: pre-wrap\;">\, </span><a href="https://www.facebook.com/SilverbacksMotorcycleClub/" style="color: rgb(56\, 88\, 152)\; cursor: pointer\; text-decoration-line: none\; font-family: Helvetica\, Arial\, sans-serif\; font-size: 14px\; white-space: pre-wrap\;" target="_blank">Silverbacks Motorcycle Club</a><span style="color: rgb(29\, 33\, 41)\; font-family: Helvetica\, Arial\, sans-serif\; font-size: 14px\; white-space: pre-wrap\;">\, </span><a href="https://www.facebook.com/TriCountyToyRunOfCentralTexas/" style="color: rgb(56\, 88\, 152)\; cursor: pointer\; text-decoration-line: none\; font-family: Helvetica\, Arial\, sans-serif\; font-size: 14px\; white-space: pre-wrap\;" target="_blank">TriCounty Toy Run of Central Texas</a><span style="color: rgb(29\, 33\, 41)\; font-family: Helvetica\, Arial\, sans-serif\; font-size: 14px\; white-space: pre-wrap\;">\, </span><a href="https://www.facebook.com/groups/653862548143812/" style="color: rgb(56\, 88\, 152)\; cursor: pointer\; text-decoration-line: none\; font-family: Helvetica\, Arial\, sans-serif\; font-size: 14px\; white-space: pre-wrap\;" target="_blank">Combat Vets 23-17 &quot\;Devil&#39\;s Backbone&quot\;</a><span style="color: rgb(29\, 33\, 41)\; font-family: Helvetica\, Arial\, sans-serif\; font-size: 14px\; white-space: pre-wrap\;">\, </span><a href="https://www.facebook.com/buffalosoldiers.killeentx/" style="color: rgb(56\, 88\, 152)\; cursor: pointer\; text-decoration-line: none\; font-family: Helvetica\, Arial\, sans-serif\; font-size: 14px\; white-space: pre-wrap\;" target="_blank">Buffalo Soldiers MC Killeen\, TX</a><span style="color: rgb(29\, 33\, 41)\; font-family: Helvetica\, Arial\, sans-serif\; font-size: 14px\; white-space: pre-wrap\;">\, [if we did not tag you we could not find your page]</span><br style="color: rgb(29\, 33\, 41)\; font-family: Helvetica\, Arial\, sans-serif\; font-size: 14px\; white-space: pre-wrap\;" />\n<br style="color: rgb(29\, 33\, 41)\; font-family: Helvetica\, Arial\, sans-serif\; font-size: 14px\; white-space: pre-wrap\;" />\n<span style="color: rgb(29\, 33\, 41)\; font-family: Helvetica\, Arial\, sans-serif\; font-size: 14px\; white-space: pre-wrap\;">Food - </span><a href="https://www.facebook.com/trenopizzeria/" style="color: rgb(56\, 88\, 152)\; cursor: pointer\; text-decoration-line: none\; font-family: Helvetica\, Arial\, sans-serif\; font-size: 14px\; white-space: pre-wrap\;" target="_blank">Treno Pizzeria and Taproom</a><span style="color: rgb(29\, 33\, 41)\; font-family: Helvetica\, Arial\, sans-serif\; font-size: 14px\; white-space: pre-wrap\;"> with have their trailer on site</span><br style="color: rgb(29\, 33\, 41)\; font-family: Helvetica\, Arial\, sans-serif\; font-size: 14px\; white-space: pre-wrap\;" />\n<span style="color: rgb(29\, 33\, 41)\; font-family: Helvetica\, Arial\, sans-serif\; font-size: 14px\; white-space: pre-wrap\;">Barber - </span><a href="https://www.facebook.com/DapperANDdashin/" style="color: rgb(56\, 88\, 152)\; cursor: pointer\; text-decoration-line: none\; font-family: Helvetica\, Arial\, sans-serif\; font-size: 14px\; white-space: pre-wrap\;" target="_blank">Dapper&amp\;Dashin&#39\; Salon and Shop</a><span style="color: rgb(29\, 33\, 41)\; font-family: Helvetica\, Arial\, sans-serif\; font-size: 14px\; white-space: pre-wrap\;"> will have chairs set up cutting hair and giving clean hot shaves</span><br style="color: rgb(29\, 33\, 41)\; font-family: Helvetica\, Arial\, sans-serif\; font-size: 14px\; white-space: pre-wrap\;" />\n<span style="color: rgb(29\, 33\, 41)\; font-family: Helvetica\, Arial\, sans-serif\; font-size: 14px\; white-space: pre-wrap\;">DJ/MC - Robbie and his Red Shoes of course</span>
LOCATION:3925 S. General Bruce Drive Temple\, Texas
UID:e.300.15361
SEQUENCE:3
DTSTAMP:20260422T112502Z
URL:https://business.beltonchamber.com/events/details/ribbon-cutting-bell-county-motowork-15361
END:VEVENT

END:VCALENDAR
