BEGIN:VCALENDAR
VERSION:2.0
PRODID:-//ChamberMaster//Event Calendar 2.0//EN
METHOD:PUBLISH
X-PUBLISHED-TTL:P3D
REFRESH-INTERVAL:P3D
CALSCALE:GREGORIAN
BEGIN:VEVENT
DTSTART:20210401T143000Z
DTEND:20210401T150000Z
X-MICROSOFT-CDO-ALLDAYEVENT:FALSE
SUMMARY:Ribbon Cutting - CyberNerd Texas
DESCRIPTION:Please join us at a ribbon cutting for new member\, CyberNerd Texas.
X-ALT-DESC;FMTTYPE=text/html:Please join us at a ribbon cutting for new member\, CyberNerd Texas.
LOCATION:It will take place here at the Chamber Office 412 E. Central Ave Belton\, TX 76513
UID:e.300.16010
SEQUENCE:3
DTSTAMP:20260421T152701Z
URL:https://business.beltonchamber.com/events/details/ribbon-cutting-cybernerd-texas-16010
END:VEVENT

END:VCALENDAR
