BEGIN:VCALENDAR
VERSION:2.0
PRODID:-//ChamberMaster//Event Calendar 2.0//EN
METHOD:PUBLISH
X-PUBLISHED-TTL:P3D
REFRESH-INTERVAL:P3D
CALSCALE:GREGORIAN
BEGIN:VEVENT
DTSTART:20201120T160000Z
DTEND:20201120T163000Z
X-MICROSOFT-CDO-ALLDAYEVENT:FALSE
SUMMARY:Ribbon Cutting - Forgotten Film
DESCRIPTION:Please join us for a ribbon cutting for Forgotten Film
X-ALT-DESC;FMTTYPE=text/html:Please join us for a ribbon cutting for Forgotten Film
LOCATION:200 E Central Ave\, Ste. A Belton\, Texas
UID:e.300.15418
SEQUENCE:3
DTSTAMP:20260422T091854Z
URL:https://business.beltonchamber.com/events/details/ribbon-cutting-forgotten-film-15418
END:VEVENT

END:VCALENDAR
