BEGIN:VCALENDAR
VERSION:2.0
PRODID:-//ChamberMaster//Event Calendar 2.0//EN
METHOD:PUBLISH
X-PUBLISHED-TTL:P3D
REFRESH-INTERVAL:P3D
CALSCALE:GREGORIAN
BEGIN:VEVENT
DTSTART:20210417T130000Z
DTEND:20210417T180000Z
X-MICROSOFT-CDO-ALLDAYEVENT:FALSE
SUMMARY:Ribbon Cutting & Grand Opening Party
DESCRIPTION:Come celebrate Titan Total Training (T3) - The Gym Ribbon Cutting & Grand Opening Party!\n\nWe will have classes\, contests\, prizes\, vendors\, specials\, and much more! Invite your friends & family\, come celebrate with us.
X-ALT-DESC;FMTTYPE=text/html:<div class="kvgmc6g5 cxmmr5t8 oygrvhab hcukyx3x c1et5uql" style="overflow-wrap: break-word\; margin: 0px\; font-family: &quot\;Segoe UI Historic&quot\;\, &quot\;Segoe UI&quot\;\, Helvetica\, Arial\, sans-serif\; color: rgb(5\, 5\, 5)\; font-size: 15px\;">Come celebrate Titan Total Training (T3) - The Gym Ribbon Cutting &amp\; Grand Opening Party!</div>\n\n<div class="o9v6fnle cxmmr5t8 oygrvhab hcukyx3x c1et5uql" style="overflow-wrap: break-word\; margin: 0.5em 0px 0px\; font-family: &quot\;Segoe UI Historic&quot\;\, &quot\;Segoe UI&quot\;\, Helvetica\, Arial\, sans-serif\; color: rgb(5\, 5\, 5)\; font-size: 15px\;">We will have classes\, contests\, prizes\, vendors\, specials\, and much more! Invite your friends &amp\; family\, come celebrate with us.</div>\n
LOCATION:Titan Total Training - The Gym 2329 S. 57th Street Temple\, TX
UID:e.300.16013
SEQUENCE:3
DTSTAMP:20260421T135817Z
URL:https://business.beltonchamber.com/events/details/ribbon-cutting-grand-opening-party-16013
END:VEVENT

END:VCALENDAR
