BEGIN:VCALENDAR
VERSION:2.0
PRODID:-//ChamberMaster//Event Calendar 2.0//EN
METHOD:PUBLISH
X-PUBLISHED-TTL:P3D
REFRESH-INTERVAL:P3D
CALSCALE:GREGORIAN
BEGIN:VEVENT
DTSTART:20210618T160000Z
DTEND:20210618T163000Z
X-MICROSOFT-CDO-ALLDAYEVENT:FALSE
SUMMARY:Ribbon Cutting & Grand Opening - Water Shack Alkaline Store and More
DESCRIPTION:Please join us for a ribbon cutting & grand opening for Water Shack Alkaline Store and More!
X-ALT-DESC;FMTTYPE=text/html:Please join us for a ribbon cutting &amp\; grand opening for&nbsp\;<a class="memName" data-details="detailsDiv9" href="https://secure2.chambermaster.com/mbrapp/ApplicationApproval#" style="color: rgb(100\, 49\, 130)\; margin-left: 0px\; font-family: Roboto\, sans-serif\; font-size: 14px\;">Water Shack Alkaline Store and More</a>!
LOCATION:2437 N. Main Street Belton
UID:e.300.16045
SEQUENCE:3
DTSTAMP:20260421T110442Z
URL:https://business.beltonchamber.com/events/details/ribbon-cutting-grand-opening-water-shack-alkaline-store-and-more-16045
END:VEVENT

END:VCALENDAR
