BEGIN:VCALENDAR
VERSION:2.0
PRODID:-//ChamberMaster//Event Calendar 2.0//EN
METHOD:PUBLISH
X-PUBLISHED-TTL:P3D
REFRESH-INTERVAL:P3D
CALSCALE:GREGORIAN
BEGIN:VEVENT
DTSTART:20200306T220000Z
DTEND:20200306T223000Z
X-MICROSOFT-CDO-ALLDAYEVENT:FALSE
SUMMARY:Ribbon Cutting - Healthy Kids Running Series Belton
DESCRIPTION:Please join us at a ribbon cutting for Healthy Kids Running Series Belton.
X-ALT-DESC;FMTTYPE=text/html:Please join us at a ribbon cutting for Healthy Kids Running Series Belton.
LOCATION:Freedom Park 8456 Tarver Drive Temple\, 76502
UID:e.300.15336
SEQUENCE:3
DTSTAMP:20260422T091201Z
URL:https://business.beltonchamber.com/events/details/ribbon-cutting-healthy-kids-running-series-belton-15336
END:VEVENT

END:VCALENDAR
