BEGIN:VCALENDAR
VERSION:2.0
PRODID:-//ChamberMaster//Event Calendar 2.0//EN
METHOD:PUBLISH
X-PUBLISHED-TTL:P3D
REFRESH-INTERVAL:P3D
CALSCALE:GREGORIAN
BEGIN:VEVENT
DTSTART:20210729T213000Z
DTEND:20210729T220000Z
X-MICROSOFT-CDO-ALLDAYEVENT:FALSE
SUMMARY:Ribbon Cutting - Kensho Sweepstakes
DESCRIPTION:Please join us at a ribbon cutting for Kensho Sweepstakes!
X-ALT-DESC;FMTTYPE=text/html:Please join us at a ribbon cutting for Kensho Sweepstakes!
LOCATION:112 E. Central Ave.\, Belton TX
UID:e.300.16047
SEQUENCE:3
DTSTAMP:20260421T222457Z
URL:https://business.beltonchamber.com/events/details/ribbon-cutting-kensho-sweepstakes-16047
END:VEVENT

END:VCALENDAR
