BEGIN:VCALENDAR
VERSION:2.0
PRODID:-//ChamberMaster//Event Calendar 2.0//EN
METHOD:PUBLISH
X-PUBLISHED-TTL:P3D
REFRESH-INTERVAL:P3D
CALSCALE:GREGORIAN
BEGIN:VEVENT
DTSTART:20210429T143000Z
DTEND:20210429T150000Z
X-MICROSOFT-CDO-ALLDAYEVENT:FALSE
SUMMARY:Ribbon Cutting - M&M Home Pro Inspections
DESCRIPTION:Please join us for a ribbon cutting for M&M Home Pro Inspections.
X-ALT-DESC;FMTTYPE=text/html:Please join us for a ribbon cutting for M&amp\;M Home Pro Inspections.
LOCATION:Belton Chamber Office 412 E. Central Ave Belton\, TX
UID:e.300.16023
SEQUENCE:3
DTSTAMP:20260421T150234Z
URL:https://business.beltonchamber.com/events/details/ribbon-cutting-m-m-home-pro-inspections-16023
END:VEVENT

END:VCALENDAR
