BEGIN:VCALENDAR
VERSION:2.0
PRODID:-//ChamberMaster//Event Calendar 2.0//EN
METHOD:PUBLISH
X-PUBLISHED-TTL:P3D
REFRESH-INTERVAL:P3D
CALSCALE:GREGORIAN
BEGIN:VEVENT
DTSTART:20200728T163000Z
DTEND:20200728T170000Z
X-MICROSOFT-CDO-ALLDAYEVENT:FALSE
SUMMARY:Ribbon Cutting - Main Street Medical Supply
DESCRIPTION:Please join us for a ribbon cutting for Main Street Medical Supply.
X-ALT-DESC;FMTTYPE=text/html:Please join us for a ribbon cutting for Main Street Medical Supply.
LOCATION:1225 N Main Street Belton\, TX 76513
UID:e.300.15388
SEQUENCE:3
DTSTAMP:20260422T141348Z
URL:https://business.beltonchamber.com/events/details/ribbon-cutting-main-street-medical-supply-15388
END:VEVENT

END:VCALENDAR
